BEGIN:VCALENDAR
VERSION:2.0
PRODID:-//Tukios.com/
BEGIN:VEVENT
UID:2184838b-7ff8-436b-885c-32a14e06f303@www.hunterfuneralhomega.com
DTSTAMP:20260424T022916Z
DTSTART:20260425T220000Z
DTEND:20260426T000000Z
SUMMARY:Visitation
DESCRIPTION:
URL:https://www.hunterfuneralhomega.com/obituaries/johnny-gragg
LOCATION:Hunter Funeral Home 423 Warwoman Road  Clayton GA 30525
GEO:34.8806339;-83.390201
END:VEVENT
END:VCALENDAR