BEGIN:VCALENDAR
VERSION:2.0
PRODID:-//Tukios.com/
BEGIN:VEVENT
UID:fffb53f4-cdb8-4e23-90e3-6b68c5f24b4f@www.hunterfuneralhomega.com
DTSTAMP:20260424T022556Z
DTSTART:20260426T183000Z
DTEND:20260426T193000Z
SUMMARY:Graveside Service
DESCRIPTION:
URL:https://www.hunterfuneralhomega.com/obituaries/johnny-gragg
LOCATION: 1433 Low Gap Road  Lakemont GA 30552
GEO:34.7461978;-83.5035839
END:VEVENT
END:VCALENDAR